BEGIN:VCALENDAR
VERSION:2.0
PRODID:icalendar-ruby
CALSCALE:GREGORIAN
METHOD:PUBLISH
BEGIN:VEVENT
DTSTAMP:20260423T063327Z
UID:117-464248@pointeofgracechurch.org
DTSTART:20261106T033000Z
DTEND:20261106T050000Z
CLASS:PUBLIC
CREATED:20260416T084923
DESCRIPTION:Join our Order of St. Luke Bible Study and Prayer Group online 
 from 7:30-9:00pm.\nThe Order of St. Luke focuses on the healing ministry o
 f God. All are welcome to study the Bible and pray with us. Anyone is welc
 ome to join this group\, no pre requirements. \nJoin us on Zoom. \nJoin 
 Zoom Link:\nhttps://us02web.zoom.us/j/89342991558?pwd=bG9kRDlJMGYrOG5YdndK
 SFFmb1B0UT09\nMeeting ID: 893 4299 1558
LAST-MODIFIED:20260416T084923
LOCATION:Online
SUMMARY:Order of St Luke
URL;VALUE=URI:https://pointeofgracechurch.org/events/order-of-st-luke/2026-
 11-05
ATTACH;FILENAME=OSL-web.png;FMTTYPE=image/png:https://dq5pwpg1q8ru0.cloudfr
 ont.net/2026/04/16/15/49/22/4b912320-82cf-47e4-85d9-331fbdb61dee/OSL-web.p
 ng
END:VEVENT
END:VCALENDAR
